BEGIN:VCALENDAR
VERSION:2.0
PRODID:-//Roofers Mart - ECPv6.15.20//NONSGML v1.0//EN
CALSCALE:GREGORIAN
METHOD:PUBLISH
X-ORIGINAL-URL:https://roofersmartinc.com
X-WR-CALDESC:Events for Roofers Mart
REFRESH-INTERVAL;VALUE=DURATION:PT1H
X-Robots-Tag:noindex
X-PUBLISHED-TTL:PT1H
BEGIN:VTIMEZONE
TZID:America/Chicago
BEGIN:DAYLIGHT
TZOFFSETFROM:-0600
TZOFFSETTO:-0500
TZNAME:CDT
DTSTART:20220313T080000
END:DAYLIGHT
BEGIN:STANDARD
TZOFFSETFROM:-0500
TZOFFSETTO:-0600
TZNAME:CST
DTSTART:20221106T070000
END:STANDARD
BEGIN:DAYLIGHT
TZOFFSETFROM:-0600
TZOFFSETTO:-0500
TZNAME:CDT
DTSTART:20230312T080000
END:DAYLIGHT
BEGIN:STANDARD
TZOFFSETFROM:-0500
TZOFFSETTO:-0600
TZNAME:CST
DTSTART:20231105T070000
END:STANDARD
BEGIN:DAYLIGHT
TZOFFSETFROM:-0600
TZOFFSETTO:-0500
TZNAME:CDT
DTSTART:20240310T080000
END:DAYLIGHT
BEGIN:STANDARD
TZOFFSETFROM:-0500
TZOFFSETTO:-0600
TZNAME:CST
DTSTART:20241103T070000
END:STANDARD
END:VTIMEZONE
BEGIN:VEVENT
DTSTART;TZID=America/Chicago:20231018T103000
DTEND;TZID=America/Chicago:20231018T133000
DTSTAMP:20260425T074552
CREATED:20230907T163225Z
LAST-MODIFIED:20230928T141754Z
UID:11344-1697625000-1697635800@roofersmartinc.com
SUMMARY:Roofers Mart KC's Wiener Wednesday: Energy Star
DESCRIPTION:KETCHUP with Roofers Mart–Kansas City at Wiener Wednesday\, our monthly lunch-and-learn event featuring a complimentary meal and a presentation from one of our top vendors! Wiener Wednesdays happen every third Wednesday of the month at our store in North Kansas City (1253 Murray St.\, N. Kansas City\, MO 64116). \nThis month\, a Vinylmax representative will discuss the changes to the Energy Star specifications for residential windows that takes effect on October 23\, 2023. You can choose between two hour-long sessions: 10:30 a.m. or 12 p.m. Lunch will be served at 11:30 a.m. \nRSVPs are requested but not required. Click here to let us know you’re coming\, or call our store at 816-221-3220. \nClick here to download our flyer
URL:https://roofersmartinc.com/event/roofers-mart-kcs-wiener-wednesday-energy-star/
LOCATION:Roofers Mart – Kansas City\, 1253 Murray St\, North Kansas City\, MO\, 64116\, United States
CATEGORIES:Kansas City,training
ATTACH;FMTTYPE=image/jpeg:https://roofersmartinc.com/wp-content/uploads/2023/08/email-header-v2-scaled.jpg
ORGANIZER;CN="Roofers Mart - Kansas City":MAILTO:orders@roofersmartinc.com
END:VEVENT
BEGIN:VEVENT
DTSTART;TZID=America/Chicago:20231003T100000
DTEND;TZID=America/Chicago:20231003T140000
DTSTAMP:20260425T074552
CREATED:20230831T150754Z
LAST-MODIFIED:20230905T212758Z
UID:11320-1696327200-1696341600@roofersmartinc.com
SUMMARY:Commercial Roofing Training with the Elevate Training Trailer
DESCRIPTION:The Elevate training trailer will be at Roofers Mart–St. Louis on October 3rd for a special commercial roofing training. Current and prospective Elevate and GenFlex contractors are invited to attend. The free training will focus on the companies’ EPDM and TPO products. It runs from 10 a.m. to 2 p.m. and includes lunch and attendance prizes. RSVP by emailing kellie@roofingsales.net. \nCLICK HERE FOR EVENT FLYER
URL:https://roofersmartinc.com/event/commercial-roofing-training-with-the-elevate-training-trailer/
LOCATION:Roofers Mart St. Louis\, 7208 Weil Avenue\, St. Louis\, MO\, 63119\, United States
CATEGORIES:St. Louis,training
END:VEVENT
BEGIN:VEVENT
DTSTART;TZID=America/Chicago:20230920T110000
DTEND;TZID=America/Chicago:20230920T133000
DTSTAMP:20260425T074552
CREATED:20230830T154243Z
LAST-MODIFIED:20230914T135448Z
UID:11315-1695207600-1695216600@roofersmartinc.com
SUMMARY:Wiener Wednesday: Woodtone RusticSeries Siding
DESCRIPTION:KETCHUP with Roofers Mart–Kansas City at Wiener Wednesday\, our monthly lunch-and-learn event featuring a complimentary meal and a presentation from one of our top vendors! Our Wiener Wednesdays happen every third Wednesday of the month\, from 11 to 1:30 p.m. at our store in North Kansas City. Septmeber’s featured vendor is Woodtone\, a synthetic wood siding product that’s made with Hardie board.  RSVPs are requested but not required. Click here to let us know you’re coming. If you have any questions\, call our store at 816-221-3220.
URL:https://roofersmartinc.com/event/wiener-wednesday-woodtone-rusticseries-siding/
LOCATION:Roofers Mart – Kansas City\, 1253 Murray St\, North Kansas City\, MO\, 64116\, United States
CATEGORIES:Kansas City,training
ATTACH;FMTTYPE=image/jpeg:https://roofersmartinc.com/wp-content/uploads/2023/08/email-header-v2-scaled.jpg
ORGANIZER;CN="Roofers Mart - Kansas City":MAILTO:orders@roofersmartinc.com
END:VEVENT
END:VCALENDAR